BEGIN:VCALENDAR
VERSION:2.0
PRODID:icalendar-ruby
CALSCALE:GREGORIAN
METHOD:PUBLISH
BEGIN:VEVENT
DTSTAMP:20260424T211558Z
UID:25-1495264@salemlutheranponca.org
DTSTART:20260813T143000Z
DTEND:20260814T030500Z
CLASS:PUBLIC
CREATED:20260424T144241
DESCRIPTION:
LAST-MODIFIED:20260424T144241
LOCATION:
SUMMARY:Bible Study
URL;VALUE=URI:https://www.salemlutheranponca.org/events/bible-study--25/202
 6-08-13
END:VEVENT
END:VCALENDAR
