BEGIN:VCALENDAR
VERSION:2.0
PRODID:icalendar-ruby
CALSCALE:GREGORIAN
METHOD:PUBLISH
BEGIN:VEVENT
DTSTAMP:20260421T091945Z
UID:313-1236077@salemlutheranponca.org
DTSTART;VALUE=DATE:20260315
DTEND;VALUE=DATE:20260315
CLASS:PUBLIC
CREATED:20260303T142005
DESCRIPTION:
LAST-MODIFIED:20260303T142005
LOCATION:TBD
SUMMARY:H.S. Youth Group Movie Outing
URL;VALUE=URI:https://www.salemlutheranponca.org/events/h-s-youth-group-mov
 ie-outing/2026-03-15
END:VEVENT
END:VCALENDAR
