BEGIN:VCALENDAR
VERSION:2.0
PRODID:icalendar-ruby
CALSCALE:GREGORIAN
METHOD:PUBLISH
BEGIN:VEVENT
DTSTAMP:20260422T070429Z
UID:17-1481495@salemlutheranponca.org
DTSTART:20220918T153000Z
DTEND:20220918T163000Z
CLASS:PUBLIC
CREATED:20260421T191141
DESCRIPTION:
LAST-MODIFIED:20260421T191141
LOCATION:
SUMMARY:Worship Service
URL;VALUE=URI:https://www.salemlutheranponca.org/events/worship-service--17
 /2022-09-18
END:VEVENT
END:VCALENDAR
