BEGIN:VCALENDAR
VERSION:2.0
PRODID:icalendar-ruby
CALSCALE:GREGORIAN
METHOD:PUBLISH
BEGIN:VEVENT
DTSTAMP:20260424T084643Z
UID:17-1491450@salemlutheranponca.org
DTSTART:20220925T153000Z
DTEND:20220925T163000Z
CLASS:PUBLIC
CREATED:20260423T204440
DESCRIPTION:
LAST-MODIFIED:20260423T204440
LOCATION:
SUMMARY:Worship Service
URL;VALUE=URI:https://www.salemlutheranponca.org/events/worship-service--17
 /2022-09-25
END:VEVENT
END:VCALENDAR
