BEGIN:VCALENDAR
VERSION:2.0
PRODID:icalendar-ruby
CALSCALE:GREGORIAN
METHOD:PUBLISH
BEGIN:VEVENT
DTSTAMP:20260424T114537Z
UID:17-1492290@salemlutheranponca.org
DTSTART:20221009T153000Z
DTEND:20221009T163000Z
CLASS:PUBLIC
CREATED:20260424T061257
DESCRIPTION:
LAST-MODIFIED:20260424T061257
LOCATION:
SUMMARY:Worship Service
URL;VALUE=URI:https://www.salemlutheranponca.org/events/worship-service--17
 /2022-10-09
END:VEVENT
END:VCALENDAR
