BEGIN:VCALENDAR
VERSION:2.0
PRODID:icalendar-ruby
CALSCALE:GREGORIAN
METHOD:PUBLISH
BEGIN:VEVENT
DTSTAMP:20260424T153425Z
UID:17-1493131@salemlutheranponca.org
DTSTART:20221023T153000Z
DTEND:20221023T163000Z
CLASS:PUBLIC
CREATED:20260424T090657
DESCRIPTION:
LAST-MODIFIED:20260424T090657
LOCATION:
SUMMARY:Worship Service
URL;VALUE=URI:https://www.salemlutheranponca.org/events/worship-service--17
 /2022-10-23
END:VEVENT
END:VCALENDAR
