BEGIN:VCALENDAR
VERSION:2.0
PRODID:icalendar-ruby
CALSCALE:GREGORIAN
METHOD:PUBLISH
BEGIN:VEVENT
DTSTAMP:20260424T171905Z
UID:17-1493971@salemlutheranponca.org
DTSTART:20221030T160000Z
DTEND:20221030T170000Z
CLASS:PUBLIC
CREATED:20260424T115609
DESCRIPTION:
LAST-MODIFIED:20260424T115609
LOCATION:
SUMMARY:Worship Service
URL;VALUE=URI:https://www.salemlutheranponca.org/events/worship-service--17
 /2022-10-30
END:VEVENT
END:VCALENDAR
