BEGIN:VCALENDAR
VERSION:2.0
PRODID:icalendar-ruby
CALSCALE:GREGORIAN
METHOD:PUBLISH
BEGIN:VEVENT
DTSTAMP:20260424T190844Z
UID:17-1493972@salemlutheranponca.org
DTSTART:20221106T163000Z
DTEND:20221106T173000Z
CLASS:PUBLIC
CREATED:20260424T115609
DESCRIPTION:
LAST-MODIFIED:20260424T115609
LOCATION:
SUMMARY:Worship Service
URL;VALUE=URI:https://www.salemlutheranponca.org/events/worship-service--17
 /2022-11-06
END:VEVENT
END:VCALENDAR
