BEGIN:VCALENDAR
VERSION:2.0
PRODID:icalendar-ruby
CALSCALE:GREGORIAN
METHOD:PUBLISH
BEGIN:VEVENT
DTSTAMP:20260424T205748Z
UID:17-1494812@salemlutheranponca.org
DTSTART:20221113T163000Z
DTEND:20221113T173000Z
CLASS:PUBLIC
CREATED:20260424T144240
DESCRIPTION:
LAST-MODIFIED:20260424T144240
LOCATION:
SUMMARY:Worship Service
URL;VALUE=URI:https://www.salemlutheranponca.org/events/worship-service--17
 /2022-11-13
END:VEVENT
END:VCALENDAR
