BEGIN:VCALENDAR
VERSION:2.0
PRODID:icalendar-ruby
CALSCALE:GREGORIAN
METHOD:PUBLISH
BEGIN:VEVENT
DTSTAMP:20260425T004200Z
UID:17-1495653@salemlutheranponca.org
DTSTART:20221204T163000Z
DTEND:20221204T173000Z
CLASS:PUBLIC
CREATED:20260424T173029
DESCRIPTION:
LAST-MODIFIED:20260424T173029
LOCATION:
SUMMARY:Worship Service
URL;VALUE=URI:https://www.salemlutheranponca.org/events/worship-service--17
 /2022-12-04
END:VEVENT
END:VCALENDAR
