BEGIN:VCALENDAR
VERSION:2.0
PRODID:icalendar-ruby
CALSCALE:GREGORIAN
METHOD:PUBLISH
BEGIN:VEVENT
DTSTAMP:20260425T035826Z
UID:17-1496494@salemlutheranponca.org
DTSTART:20221218T163000Z
DTEND:20221218T173000Z
CLASS:PUBLIC
CREATED:20260424T201841
DESCRIPTION:
LAST-MODIFIED:20260424T201841
LOCATION:
SUMMARY:Worship Service
URL;VALUE=URI:https://www.salemlutheranponca.org/events/worship-service--17
 /2022-12-18
END:VEVENT
END:VCALENDAR
