BEGIN:VCALENDAR
VERSION:2.0
PRODID:icalendar-ruby
CALSCALE:GREGORIAN
METHOD:PUBLISH
BEGIN:VEVENT
DTSTAMP:20260425T130222Z
UID:17-1497338@salemlutheranponca.org
DTSTART:20230129T163000Z
DTEND:20230129T173000Z
CLASS:PUBLIC
CREATED:20260425T060649
DESCRIPTION:
LAST-MODIFIED:20260425T060649
LOCATION:
SUMMARY:Worship Service
URL;VALUE=URI:https://www.salemlutheranponca.org/events/worship-service--17
 /2023-01-29
END:VEVENT
END:VCALENDAR
