BEGIN:VCALENDAR
VERSION:2.0
PRODID:icalendar-ruby
CALSCALE:GREGORIAN
METHOD:PUBLISH
BEGIN:VEVENT
DTSTAMP:20260425T144745Z
UID:17-1498178@salemlutheranponca.org
DTSTART:20230205T163000Z
DTEND:20230205T173000Z
CLASS:PUBLIC
CREATED:20260425T084814
DESCRIPTION:
LAST-MODIFIED:20260425T084814
LOCATION:
SUMMARY:Worship Service
URL;VALUE=URI:https://www.salemlutheranponca.org/events/worship-service--17
 /2023-02-05
END:VEVENT
END:VCALENDAR
