BEGIN:VCALENDAR
VERSION:2.0
PRODID:icalendar-ruby
CALSCALE:GREGORIAN
METHOD:PUBLISH
BEGIN:VEVENT
DTSTAMP:20260425T162006Z
UID:17-1498179@salemlutheranponca.org
DTSTART:20230212T163000Z
DTEND:20230212T173000Z
CLASS:PUBLIC
CREATED:20260425T084814
DESCRIPTION:
LAST-MODIFIED:20260425T084814
LOCATION:
SUMMARY:Worship Service
URL;VALUE=URI:https://www.salemlutheranponca.org/events/worship-service--17
 /2023-02-12
END:VEVENT
END:VCALENDAR
