BEGIN:VCALENDAR
VERSION:2.0
PRODID:icalendar-ruby
CALSCALE:GREGORIAN
METHOD:PUBLISH
BEGIN:VEVENT
DTSTAMP:20260425T181136Z
UID:17-1499019@salemlutheranponca.org
DTSTART:20230219T163000Z
DTEND:20230219T173000Z
CLASS:PUBLIC
CREATED:20260425T112846
DESCRIPTION:
LAST-MODIFIED:20260425T112846
LOCATION:
SUMMARY:Worship Service
URL;VALUE=URI:https://www.salemlutheranponca.org/events/worship-service--17
 /2023-02-19
END:VEVENT
END:VCALENDAR
