BEGIN:VCALENDAR
VERSION:2.0
PRODID:icalendar-ruby
CALSCALE:GREGORIAN
METHOD:PUBLISH
BEGIN:VEVENT
DTSTAMP:20260425T194531Z
UID:17-1499859@salemlutheranponca.org
DTSTART:20230226T163000Z
DTEND:20230226T173000Z
CLASS:PUBLIC
CREATED:20260425T140904
DESCRIPTION:
LAST-MODIFIED:20260425T140904
LOCATION:
SUMMARY:Worship Service
URL;VALUE=URI:https://www.salemlutheranponca.org/events/worship-service--17
 /2023-02-26
END:VEVENT
END:VCALENDAR
