BEGIN:VCALENDAR
VERSION:2.0
PRODID:icalendar-ruby
CALSCALE:GREGORIAN
METHOD:PUBLISH
BEGIN:VEVENT
DTSTAMP:20260425T211429Z
UID:17-1499860@salemlutheranponca.org
DTSTART:20230305T163000Z
DTEND:20230305T173000Z
CLASS:PUBLIC
CREATED:20260425T140904
DESCRIPTION:
LAST-MODIFIED:20260425T140904
LOCATION:
SUMMARY:Worship Service
URL;VALUE=URI:https://www.salemlutheranponca.org/events/worship-service--17
 /2023-03-05
END:VEVENT
END:VCALENDAR
