BEGIN:VCALENDAR
VERSION:2.0
PRODID:icalendar-ruby
CALSCALE:GREGORIAN
METHOD:PUBLISH
BEGIN:VEVENT
DTSTAMP:20260426T002217Z
UID:17-1500701@salemlutheranponca.org
DTSTART:20230319T153000Z
DTEND:20230319T163000Z
CLASS:PUBLIC
CREATED:20260425T165118
DESCRIPTION:
LAST-MODIFIED:20260425T165118
LOCATION:
SUMMARY:Worship Service
URL;VALUE=URI:https://www.salemlutheranponca.org/events/worship-service--17
 /2023-03-19
END:VEVENT
END:VCALENDAR
