BEGIN:VCALENDAR
VERSION:2.0
PRODID:icalendar-ruby
CALSCALE:GREGORIAN
METHOD:PUBLISH
BEGIN:VEVENT
DTSTAMP:20260426T015959Z
UID:17-1501541@salemlutheranponca.org
DTSTART:20230326T153000Z
DTEND:20230326T163000Z
CLASS:PUBLIC
CREATED:20260425T193421
DESCRIPTION:
LAST-MODIFIED:20260425T193421
LOCATION:
SUMMARY:Worship Service
URL;VALUE=URI:https://www.salemlutheranponca.org/events/worship-service--17
 /2023-03-26
END:VEVENT
END:VCALENDAR
