BEGIN:VCALENDAR
VERSION:2.0
PRODID:icalendar-ruby
CALSCALE:GREGORIAN
METHOD:PUBLISH
BEGIN:VEVENT
DTSTAMP:20260426T032806Z
UID:17-1501542@salemlutheranponca.org
DTSTART:20230402T153000Z
DTEND:20230402T163000Z
CLASS:PUBLIC
CREATED:20260425T193421
DESCRIPTION:
LAST-MODIFIED:20260425T193421
LOCATION:
SUMMARY:Worship Service
URL;VALUE=URI:https://www.salemlutheranponca.org/events/worship-service--17
 /2023-04-02
END:VEVENT
END:VCALENDAR
